BEGIN:VCALENDAR
VERSION:2.0
PRODID:-//The NASWA Resort - ECPv6.15.17.1//NONSGML v1.0//EN
CALSCALE:GREGORIAN
METHOD:PUBLISH
X-ORIGINAL-URL:https://naswa.com
X-WR-CALDESC:Events for The NASWA Resort
REFRESH-INTERVAL;VALUE=DURATION:PT1H
X-Robots-Tag:noindex
X-PUBLISHED-TTL:PT1H
BEGIN:VTIMEZONE
TZID:America/New_York
BEGIN:DAYLIGHT
TZOFFSETFROM:-0500
TZOFFSETTO:-0400
TZNAME:EDT
DTSTART:20250309T070000
END:DAYLIGHT
BEGIN:STANDARD
TZOFFSETFROM:-0400
TZOFFSETTO:-0500
TZNAME:EST
DTSTART:20251102T060000
END:STANDARD
BEGIN:DAYLIGHT
TZOFFSETFROM:-0500
TZOFFSETTO:-0400
TZNAME:EDT
DTSTART:20260308T070000
END:DAYLIGHT
BEGIN:STANDARD
TZOFFSETFROM:-0400
TZOFFSETTO:-0500
TZNAME:EST
DTSTART:20261101T060000
END:STANDARD
BEGIN:DAYLIGHT
TZOFFSETFROM:-0500
TZOFFSETTO:-0400
TZNAME:EDT
DTSTART:20270314T070000
END:DAYLIGHT
BEGIN:STANDARD
TZOFFSETFROM:-0400
TZOFFSETTO:-0500
TZNAME:EST
DTSTART:20271107T060000
END:STANDARD
END:VTIMEZONE
BEGIN:VEVENT
DTSTART;TZID=America/New_York:20260926T120000
DTEND;TZID=America/New_York:20260926T160000
DTSTAMP:20260421T094251
CREATED:20251119T194552Z
LAST-MODIFIED:20251119T194552Z
UID:19810-1790424000-1790438400@naswa.com
SUMMARY:10th Annual Red\, White & Brew
DESCRIPTION:Date: Saturday\, September 26\, 2026Time: 12:00 – 4:00 PMLocation: Funspot 579 Endicott Street North Laconia\, NH 03246 \n\nMore info at:\nhttp://vetscount.org/events \n\nJoin us at the 10th Annual Red\, White & Brew to benefit New Hampshire service members\, veterans\, and their families! Enjoy craft beer\, wine\, food\, a car show\, an auction\, raffles\, live music from The Bob Pratte Band\, and more! \nEvent Highlights:\n• Live Music by The Bob Pratte Band – Enjoy high-energy entertainment and classic hits that’ll have you dancing all afternoon.• Craft beer\, wine and great food! – Soak in the awesome atmosphere with great food\, cold drinks\, and good company.\n• Classic cars and more! – Ooh and ahh over some amazing rides.• Support a Meaningful Cause – 100% of proceeds go directly to Veterans Count\, providing critical services to those who’ve served our country. \nhttps://naswa.com/wp-content/uploads/2025/09/09232025RWB_This_Sat._Video_Social0924-09252025.mp4
URL:https://naswa.com/event/10th-annual-red-white-brew/
LOCATION:Funspot\, 579 Endicott Street North\, Laconia\, NH\, 03246\, United States
CATEGORIES:Special Events
ATTACH;FMTTYPE=image/png:https://naswa.com/wp-content/uploads/2025/09/Red-White-and-Brew-2023-Logo.png
END:VEVENT
BEGIN:VEVENT
DTSTART;TZID=America/New_York:20261003T130000
DTEND;TZID=America/New_York:20261003T180000
DTSTAMP:20260421T094251
CREATED:20251119T194354Z
LAST-MODIFIED:20251119T194354Z
UID:19809-1791032400-1791050400@naswa.com
SUMMARY:Rockin’ for Vets 2026 at The NASWA Resort
DESCRIPTION:Date: Saturday\, October 3\, 2026Time: 1:00 PM – 6:00 PMLocation: The NASWA Resort | 1086 Weirs Blvd\, Laconia\, NH \nJoin us on the shores of Lake Winnipesaukee for an afternoon of music\, community\, and heartfelt giving at Rockin’ for Vets 2026—a special event to benefit Veterans Count\, supporting veterans and military families right here in the Lakes Region. \nEvent Highlights:\n• Live Music by The Bob Pratte Band – Enjoy high-energy entertainment and classic hits that’ll have you dancing all afternoon.• NazBar & Grill Vibes – Soak in the lakeside atmosphere with great food\, cold drinks\, and good company.• Support a Meaningful Cause – 100% of proceeds go directly to Veterans Count\, providing critical services to those who’ve served our country. \nWhether you’re a music fan\, a proud supporter of our veterans\, or simply looking for a meaningful way to spend a beautiful fall afternoon\, Rockin’ for Vets is the perfect way to come together and make a difference—NASWA style. \nCall 888.55.NASWA for more details\, and mark your calendar for a day that rocks with purpose!
URL:https://naswa.com/event/rockin-for-vets-2026-at-the-naswa-resort/
LOCATION:The NASWA Resort\, 1086 Weirs Blvd\, Laconia\, NH
ATTACH;FMTTYPE=image/webp:https://naswa.com/wp-content/uploads/2025/04/rockin-for-vets-vFinal.webp
END:VEVENT
BEGIN:VEVENT
DTSTART;VALUE=DATE:20261009
DTEND;VALUE=DATE:20261013
DTSTAMP:20260421T094251
CREATED:20251121T204549Z
LAST-MODIFIED:20251121T204549Z
UID:19850-1791504000-1791849599@naswa.com
SUMMARY:Columbus Day Weekend at The NASWA Resort
DESCRIPTION:Date: Friday\, October 9 – Monday\, October 12\, 2026\nLocation: 1086 Weirs Blvd Laconia NH 03246 \nCelebrate the final weekend of the season with a relaxing fall getaway at The NASWA Resort on beautiful Lake Winnipesaukee. Columbus Day Weekend marks your last chance to enjoy our beachfront fun\, delicious dining\, and lakeside views before we say goodbye to another unforgettable summer in the Lakes Region. \nSpend your days soaking up the crisp autumn air at the NazBar & Grill or savoring a handcrafted meal at the Blue Bistro\, both open for the holiday weekend. It’s the perfect time to explore the vibrant fall colors of New Hampshire—take a scenic ride through the White Mountains\, enjoy local foliage drives\, or stroll through charming Lakes Region towns dressed in peak autumn beauty. \nWhether you’re visiting for one last beachside cocktail\, a cozy dinner\, or a peaceful fall escape\, Columbus Day Weekend at NASWA is the ideal way to close out the season. Enjoy lake views\, warm hospitality\, and the best of New England fall before we wrap up for winter. \nJoin us for one more unforgettable weekend on Lake Winnipesaukee.
URL:https://naswa.com/event/columbus-day-weekend-at-the-naswa-resort/
LOCATION:The NASWA Resort\, 1086 Weirs Blvd\, Laconia\, NH
ATTACH;FMTTYPE=image/jpeg:https://naswa.com/wp-content/uploads/2025/11/0336.jpg
END:VEVENT
END:VCALENDAR